BEGIN:VCALENDAR
BEGIN:VEVENT
SUMMARY:Artifact Experimental: Tony Rolando\, Sabrina Salamone\, Mario Dia
 z de Leon [nycnoise]
DTSTART:20251022T000000Z
DTEND:20251022T010000Z
UID:62e9d292-3d6d-4aa9-86c1-20fd8a9ebc95
CREATED:20260420T145147Z
DESCRIPTION:7:30pm doors
LOCATION:sleepwalk (251 bushwick ave\, brooklyn)
END:VEVENT
END:VCALENDAR
