BEGIN:VCALENDAR
BEGIN:VEVENT
SUMMARY:Durations: Clarissa Connelly [nycnoise]
DTSTART:20251105T010000Z
DTEND:20251105T020000Z
UID:9c69e67d-9e7f-4f24-9740-a559e141faa4
CREATED:20260425T203703Z
DESCRIPTION:$160 for&nbsp\;6-day pass
LOCATION:public records (233 butler st.\, brooklyn)
END:VEVENT
END:VCALENDAR
