BEGIN:VCALENDAR
BEGIN:VEVENT
SUMMARY:Durations: Jan Jelinek + Jefre Cantu-Ledesma [nycnoise]
DTSTART:20251106T000000Z
DTEND:20251106T010000Z
UID:734c78fb-718a-43c8-8316-73871779b9bb
CREATED:20260425T203803Z
DESCRIPTION:$160 for&nbsp\;6-day pass
LOCATION:public records (233 butler st.\, brooklyn)
END:VEVENT
END:VCALENDAR
