BEGIN:VCALENDAR
BEGIN:VEVENT
SUMMARY:Durations: Music From Memory w/ Suso Sáiz + Patricia Wolf [nycnoi
 se]
DTSTART:20251108T000000Z
DTEND:20251108T010000Z
UID:a09dbaa1-5c92-4d71-87d4-ae9fdada33b0
CREATED:20260425T203631Z
DESCRIPTION:$160 for&nbsp\;6-day pass
LOCATION:public records (233 butler st.\, brooklyn)
END:VEVENT
END:VCALENDAR
