BEGIN:VCALENDAR
BEGIN:VEVENT
SUMMARY:Durations: MARRØN\, Dorisburg (Live)\, Clarisa Kimskii\, Alex Kas
 sian\, Yibing\, Smilegoth [nycnoise]
DTSTART:20251108T030000Z
DTEND:20251108T040000Z
UID:e2668378-6523-40c1-825e-b11db8ba77c5
CREATED:20260425T203633Z
DESCRIPTION:$160 for&nbsp\;6-day pass
LOCATION:public records (233 butler st.\, brooklyn)
END:VEVENT
END:VCALENDAR
