BEGIN:VCALENDAR
BEGIN:VEVENT
SUMMARY:Durations: Jeff Parker\, Patrick Shiroishi\, Fergus Jones (live)\,
  M. Sage\, Gabriel Jermaine Vanlandingham-Dunn\, Lyra Pramuk\, Call Super\
 , Amelia Holt [nycnoise]
DTSTART:20251109T200000Z
DTEND:20251109T210000Z
UID:5f01d175-d6cd-4d89-b4bf-a86bf8eb95c8
CREATED:20260425T203853Z
DESCRIPTION:$160 for&nbsp\;6-day pass
LOCATION:public records (233 butler st.\, brooklyn)
END:VEVENT
END:VCALENDAR
