BEGIN:VCALENDAR
BEGIN:VEVENT
SUMMARY:NTHNL\, Ben Shirken\, Miriam Elhajli [nycnoise]
DTSTART:20251114T000000Z
DTEND:20251114T010000Z
UID:bcbd4b53-d0a0-402c-a9ec-57d5762c3b46
CREATED:20260425T203633Z
DESCRIPTION:someone tell PR to fix miriam's name plz\; i copy-pasted witho
 ut checking &amp\; was embarrassed to see it spelled wrong!!
LOCATION:public records (233 butler st.\, brooklyn)
END:VEVENT
END:VCALENDAR
