BEGIN:VCALENDAR
BEGIN:VEVENT
SUMMARY:An Evening with Mat & Jenn playing Carissa's Wierd [nycnoise]
DTSTART:20251117T010000Z
DTEND:20251117T020000Z
UID:2ffe362a-30a0-48ff-af3e-87db7264f3a9
CREATED:20260425T203805Z
DESCRIPTION:my 14-yr-old self's on the waitlist
LOCATION:public records (233 butler st.\, brooklyn)
END:VEVENT
END:VCALENDAR
