BEGIN:VCALENDAR
BEGIN:VEVENT
SUMMARY:Kalia Vandever Quartet [nycnoise]
DTSTART:20251130T000000Z
DTEND:20251130T010000Z
UID:998e6ccb-45c1-487d-b4c8-03b7c6818be3
CREATED:20260425T204016Z
DESCRIPTION:
LOCATION:public records (233 butler st.\, brooklyn)
END:VEVENT
END:VCALENDAR
