BEGIN:VCALENDAR
BEGIN:VEVENT
SUMMARY:Mason Lindahl (Album Release)\, Ryley Walker\, Earthen Sea [nycnoi
 se]
DTSTART:20251213T000000Z
DTEND:20251213T010000Z
UID:c8bed24c-a7b9-4390-aead-ef8447c1a87e
CREATED:20260425T183932Z
DESCRIPTION:
LOCATION:public records (233 butler st.\, brooklyn)
END:VEVENT
END:VCALENDAR
