BEGIN:VCALENDAR
BEGIN:VEVENT
SUMMARY:GRID: Palestine Fundraiser: SSG_\, PUFF\, hamadi\, Pacha DJ\, kyxm
 \, Martine [nycnoise]
DTSTART:20251017T000000Z
DTEND:20251017T010000Z
UID:37bfb76b-baa5-43e5-8cb0-e12da889e869
CREATED:20260420T145301Z
DESCRIPTION:🇵🇸 "to raise money for the NYC/NJ chapter of Al-Ahrar\, 
 an international organization dedicated to advocating for the rights of Pa
 lestinian prisoners"
LOCATION:jupiter disco (1237 flushing ave\, brooklyn)
END:VEVENT
END:VCALENDAR
