BEGIN:VCALENDAR
BEGIN:VEVENT
SUMMARY:Yuhan Su (Album Release) [nycnoise]
DTSTART:20251018T230000Z
DTEND:20251019T000000Z
UID:04dddbb1-13c6-4aa1-a32d-f54f5c3649ec
CREATED:20260420T145356Z
DESCRIPTION:w/ Alex LoRe\, Anna Webber\, Matt Mitchell\, Miles Okazaki\, M
 arty Kenney\, James Paul Nadien\, Shinya Lin + livestream
LOCATION:jazz gallery (1160 broadway (on w. 27th)\, fl.5\, manhattan)
END:VEVENT
END:VCALENDAR
