BEGIN:VCALENDAR
BEGIN:VEVENT
SUMMARY:Matana Roberts: 'Coin Coin / The Echo Sessions' (w/ Chris Ryan Wil
 liams\, Lester St. Louis\, Adi Myerson\, Ryan Sawyer)\, Night #1/2 [nycnoi
 se]
DTSTART:20251024T230000Z
DTEND:20251025T000000Z
UID:bbaf44fc-306d-4538-ac23-2e8f3be9fd7f
CREATED:20260420T145350Z
DESCRIPTION:livestream
LOCATION:jazz gallery (1160 broadway (on w. 27th)\, fl.5\, manhattan)
END:VEVENT
END:VCALENDAR
