BEGIN:VCALENDAR
BEGIN:VEVENT
SUMMARY:Joel Ross [nycnoise]
DTSTART:20251029T230000Z
DTEND:20251030T000000Z
UID:7d7a1557-0159-483a-b60a-aa7b411c53d2
CREATED:20260420T145212Z
DESCRIPTION:confirming # days asap\; livestream
LOCATION:jazz gallery (1160 broadway (on w. 27th)\, fl.5\, manhattan)
END:VEVENT
END:VCALENDAR
