BEGIN:VCALENDAR
BEGIN:VEVENT
SUMMARY:Tom Thayer: Circadian Plays\, Day #1/3 [nycnoise]
DTSTART:20251009T180000Z
DTEND:20251009T190000Z
UID:b18dac62-6384-495a-ade9-4009fcfc48d6
CREATED:20260420T145322Z
DESCRIPTION:'A Farmer&rsquo\;s Eye Tied to a Horse by a Silk Rope'
LOCATION:blank forms (1d) (468 grand ave #1d\, brooklyn)
END:VEVENT
END:VCALENDAR
