BEGIN:VCALENDAR
BEGIN:VEVENT
SUMMARY:New Ear: The Plane(s) (Rebekkah Palov) [nycnoise]
DTSTART:20251005T230000Z
DTEND:20251006T000000Z
UID:ae199fbc-af26-4923-b6fa-667e8e37c1c3
CREATED:20260420T145148Z
DESCRIPTION:
LOCATION:fridman gallery (169 bowery\, manhattan)
END:VEVENT
END:VCALENDAR
