BEGIN:VCALENDAR
BEGIN:VEVENT
SUMMARY:New Ear SPATIAL 010: Dafna Naphtali\, Ed Osborn\, Kristina Warren 
 [nycnoise]
DTSTART:20251027T000000Z
DTEND:20251027T010000Z
UID:599f054a-dba1-4e21-842d-bed3c0c3e916
CREATED:20260420T145544Z
DESCRIPTION:
LOCATION:fridman gallery (169 bowery\, manhattan)
END:VEVENT
END:VCALENDAR
