BEGIN:VCALENDAR
BEGIN:VEVENT
SUMMARY:Body Journey: CH3RI\, HeavensG8 b2b Yatta\, Clit.hub [nycnoise]
DTSTART:20251005T020000Z
DTEND:20251005T030000Z
UID:d57f8de9-912e-4200-879d-eabeccf2f658
CREATED:20260420T145451Z
DESCRIPTION:
LOCATION:bossa nova civic club (1271 myrtle ave\, brooklyn)
END:VEVENT
END:VCALENDAR
