BEGIN:VCALENDAR
BEGIN:VEVENT
SUMMARY:Bohannon / Fox / Gunn\, Mark Morgan [nycnoise]
DTSTART:20251007T230000Z
DTEND:20251008T000000Z
UID:f98dbdec-217a-4bc8-b53d-eae7dec2a773
CREATED:20260420T145602Z
DESCRIPTION:
LOCATION:cassette (68-38 forest ave bsmt\, ridgewood)
END:VEVENT
END:VCALENDAR
