BEGIN:VCALENDAR
BEGIN:VEVENT
SUMMARY:Ky Vöss\, Alex Koi\, Jan Esbra\, Isabella Ashton [nycnoise]
DTSTART:20251008T233000Z
DTEND:20251009T003000Z
UID:616928bb-1d12-4495-978d-fe3e2b7306df
CREATED:20260420T145500Z
DESCRIPTION:
LOCATION:cassette (68-38 forest ave bsmt\, ridgewood)
END:VEVENT
END:VCALENDAR
