BEGIN:VCALENDAR
BEGIN:VEVENT
SUMMARY:nothing personal\, just everything\, Night #1/3: Netta Yerushalmy\
 , Tuçe Yasak\, Mieke Ulfig\, Katherine Profeta\, Paula Matthusen\, Alla K
 ovgan [nycnoise]
DTSTART:20251030T230000Z
DTEND:20251031T000000Z
UID:a256b35c-f6fa-47e9-b0a4-d1707ce72012
CREATED:20260420T145541Z
DESCRIPTION:
LOCATION:chocolate factory theater (38-33 24th st.\, long island city)
END:VEVENT
END:VCALENDAR
