BEGIN:VCALENDAR
BEGIN:VEVENT
SUMMARY:Firebath (Tony Malaby\, Katie Webster\, Ana Fortuna\, Charlie Linc
 oln\, Evan Palmer\, Henry Mermer\, Ilyah Blazh) [nycnoise]
DTSTART:20251012T033000Z
DTEND:20251012T043000Z
UID:a0285e59-4463-4b5e-8c11-53dd6afa0b2b
CREATED:20260420T145212Z
DESCRIPTION:
LOCATION:close up jazz (154 Orchard St\, New York\, NY 10002\, United Stat
 es)
END:VEVENT
END:VCALENDAR
