BEGIN:VCALENDAR
BEGIN:VEVENT
SUMMARY:Melissa Almaguer / David Virelles / Samantha Kochis / Henry Fraser
  [nycnoise]
DTSTART:20251027T233000Z
DTEND:20251028T003000Z
UID:349cdbf4-f4bd-4af9-8623-9940f4b77f9b
CREATED:20260420T145539Z
DESCRIPTION:7:30pm tix + 9pm tix
LOCATION:close up jazz (154 Orchard St\, New York\, NY 10002\, United Stat
 es)
END:VEVENT
END:VCALENDAR
