BEGIN:VCALENDAR
BEGIN:VEVENT
SUMMARY:Robert Vega / Kevin Eichenberger / Maliq Wynn [nycnoise]
DTSTART:20251013T033000Z
DTEND:20251013T043000Z
UID:c4578501-ca5f-4bc2-a87d-eadadaa96976
CREATED:20260420T145148Z
DESCRIPTION:11:30pm set\, 12:30am "jam"
LOCATION:close up jazz (154 Orchard St\, New York\, NY 10002\, United Stat
 es)
END:VEVENT
END:VCALENDAR
