BEGIN:VCALENDAR
BEGIN:VEVENT
SUMMARY:Or Bareket / Pau Jorba / Emmanuel Michael / Esteban Castro / Joe D
 yson [nycnoise]
DTSTART:20251013T233000Z
DTEND:20251014T003000Z
UID:47f78dc0-e26f-4d91-b56e-33606f8bbeba
CREATED:20260420T145537Z
DESCRIPTION:7:30pm tix + 9pm tix
LOCATION:close up jazz (154 Orchard St\, New York\, NY 10002\, United Stat
 es)
END:VEVENT
END:VCALENDAR
