BEGIN:VCALENDAR
BEGIN:VEVENT
SUMMARY:For Living Lovers (Brandon Ross & Stomu Takeishi) [nycnoise]
DTSTART:20251022T233000Z
DTEND:20251023T003000Z
UID:c787a6d1-516a-4fbb-94d7-80d869568840
CREATED:20260420T145537Z
DESCRIPTION:7:30pm tix + 9pm tix
LOCATION:close up jazz (154 Orchard St\, New York\, NY 10002\, United Stat
 es)
END:VEVENT
END:VCALENDAR
