BEGIN:VCALENDAR
BEGIN:VEVENT
SUMMARY:The Croaks\, Or Best Offer\, Boyscoutmarie\, Diamond Grinder [nycn
 oise]
DTSTART:20251011T000000Z
DTEND:20251011T010000Z
UID:5fa44b08-327b-4a0d-ba27-84930ba45185
CREATED:20260420T145538Z
DESCRIPTION:7pm doors
LOCATION:hart bar (538 hart st.\, brooklyn)
END:VEVENT
END:VCALENDAR
