BEGIN:VCALENDAR
BEGIN:VEVENT
SUMMARY:Pat Walsh\, Dahjyn\, Vildava\, Murderpact [nycnoise]
DTSTART:20251015T003000Z
DTEND:20251015T013000Z
UID:28543939-aacc-41ef-9650-ff2d050bbc79
CREATED:20260420T145538Z
DESCRIPTION:8pm doors\; ticket link asap?
LOCATION:hart bar (538 hart st.\, brooklyn)
END:VEVENT
END:VCALENDAR
