BEGIN:VCALENDAR
BEGIN:VEVENT
SUMMARY:Simulmatics\, Yvonne LeBien\, Dimensions Viewer\, Exit Seraphim [n
 ycnoise]
DTSTART:20251016T000000Z
DTEND:20251016T010000Z
UID:f565d1de-eb26-4999-bd3b-a9db8a8990c4
CREATED:20260420T145206Z
DESCRIPTION:7pm doors
LOCATION:hart bar (538 hart st.\, brooklyn)
END:VEVENT
END:VCALENDAR
