BEGIN:VCALENDAR
BEGIN:VEVENT
SUMMARY:HALLOWEEN [nycnoise]
DTSTART:20251031T230000Z
DTEND:20251101T000000Z
UID:b414e92e-c317-4eaf-84c8-4d07ee5cdb21
CREATED:20260420T145556Z
DESCRIPTION:6pm doors\; Tropicana\, Awful Din\, Last Minet\, Costume conte
 st\, Something Bitter
LOCATION:hart bar (538 hart st.\, brooklyn)
END:VEVENT
END:VCALENDAR
