BEGIN:VCALENDAR
BEGIN:VEVENT
SUMMARY:Improvisational Music Series: Radio Free Tibet\, Dark Circuits Sui
 tcase Quartet (Hans Tammen\, Shoko Nagai\, Luke Dubois\, Alex Alex Zhu) [n
 ycnoise]
DTSTART:20251007T230000Z
DTEND:20251008T000000Z
UID:14b5a913-5692-4b72-bd80-b497eedce561
CREATED:20260420T145541Z
DESCRIPTION:6:30pm doors\; RFT: Indofunk Satish\, Dan Jones\, Luigi Gennar
 o\;&nbsp\;9pm "jam"
LOCATION:main drag (50 s. 1st st.\, brooklyn)
END:VEVENT
END:VCALENDAR
