BEGIN:VCALENDAR
BEGIN:VEVENT
SUMMARY:Kosmische Music: Trevor Bajus' Science Officer\, Theo Woodward's T
 heatre of Divine Resonance\, Hans Tammen's Third Eye Electric Quintet++ pl
 ays Manuel Göttsching's E2-E4 [nycnoise]
DTSTART:20251026T220000Z
DTEND:20251026T230000Z
UID:a9245a2c-b94b-461f-9e3d-7a2b8ffed59a
CREATED:20260420T145538Z
DESCRIPTION:5:30pm doors\; TBSO w/&nbsp\;Mark Caserta\, Mike Golub\, Ryan 
 Siegel\, Marcus Cummins\, Karl Myers\; ToDR w/ Indofunk Satish\, DJMAGICKC
 LOWNS\, Karolina Lisowski\, Rabbistravinsky\; 3EEQ++ w/&nbsp\;Ras Moshe\, 
 Cummins\, Izzi Ramkissoon\, Yuko Togami\, Yaching Cheung\, Ronnie Ahlborn 
 (projection)
LOCATION:main drag (50 s. 1st st.\, brooklyn)
END:VEVENT
END:VCALENDAR
