BEGIN:VCALENDAR
BEGIN:VEVENT
SUMMARY:HALLOWEEN [nycnoise]
DTSTART:20251030T001500Z
DTEND:20251030T011500Z
UID:222632af-1365-4655-b819-721f8f9b24a1
CREATED:20260420T145542Z
DESCRIPTION:
LOCATION:main drag (50 s. 1st st.\, brooklyn)
END:VEVENT
END:VCALENDAR
