BEGIN:VCALENDAR
BEGIN:VEVENT
SUMMARY:HALLOWEEN [nycnoise]
DTSTART:20251031T000000Z
DTEND:20251031T010000Z
UID:2b729b60-293b-43d0-8df8-9ef6ac4137ca
CREATED:20260420T145135Z
DESCRIPTION:
LOCATION:main drag (50 s. 1st st.\, brooklyn)
END:VEVENT
END:VCALENDAR
