BEGIN:VCALENDAR
BEGIN:VEVENT
SUMMARY:Live Skull\, Quattracenta\, Katheryn McGaffigan w/ Hannah Moorehea
 d [nycnoise]
DTSTART:20251004T200000Z
DTEND:20251004T210000Z
UID:b77db7af-2b55-4b85-93a9-3b3b9302f8a6
CREATED:20260420T145204Z
DESCRIPTION:
LOCATION:mama tried (787 3rd ave\, brooklyn)
END:VEVENT
END:VCALENDAR
