BEGIN:VCALENDAR
BEGIN:VEVENT
SUMMARY:Dot Dash presents: Phantom Tollbooth\, Subskin Cables\, Baby Spide
 rs [nycnoise]
DTSTART:20251018T200000Z
DTEND:20251018T210000Z
UID:f09ed898-731d-40d0-b8e0-903956df4aaf
CREATED:20260420T145356Z
DESCRIPTION:
LOCATION:mama tried (787 3rd ave\, brooklyn)
END:VEVENT
END:VCALENDAR
