BEGIN:VCALENDAR
BEGIN:VEVENT
SUMMARY:Shardik\, OrchidBB\, James Wengrow\, Crypsis Quartet [nycnoise]
DTSTART:20251023T230000Z
DTEND:20251024T000000Z
UID:a4f7d02c-e140-4cd1-9c58-718b3e718d1a
CREATED:20260420T145548Z
DESCRIPTION:
LOCATION:nublu 151 (151 ave c\, manhattan)
END:VEVENT
END:VCALENDAR
