BEGIN:VCALENDAR
BEGIN:VEVENT
SUMMARY:New Thread [Sax] Quartet: Explorations V.8: Soundblock [nycnoise]
DTSTART:20251005T190000Z
DTEND:20251005T200000Z
UID:4c784d38-9f49-4020-a0b9-03e78ed52a0d
CREATED:20260420T145500Z
DESCRIPTION:NT4: Jonathan Hulting-Cohen\, Noa Even\, Erin Rogers\, Zach He
 rchen\; music by Marilyn Shrude\, Hannah Kendall\, Georg Friedrich Haas\, 
 James Tenney\, Hong-Da Chin
LOCATION:mise-en_place (45 St Nicholas Ave\, New York\, NY 10026)
END:VEVENT
END:VCALENDAR
