BEGIN:VCALENDAR
BEGIN:VEVENT
SUMMARY:Unheard-of Dialogues // Trios\, Sputter Box [nycnoise]
DTSTART:20251019T000000Z
DTEND:20251019T010000Z
UID:84e87f53-01b9-4add-a8ee-4b0858dbaa14
CREATED:20260420T145302Z
DESCRIPTION:
LOCATION:mise-en_place (45 St Nicholas Ave\, New York\, NY 10026)
END:VEVENT
END:VCALENDAR
