BEGIN:VCALENDAR
BEGIN:VEVENT
SUMMARY:counter)induction [nycnoise]
DTSTART:20251026T200000Z
DTEND:20251026T210000Z
UID:16f98224-b284-4891-affe-0a260e690aed
CREATED:20260420T145318Z
DESCRIPTION:
LOCATION:mise-en_place (45 St Nicholas Ave\, New York\, NY 10026)
END:VEVENT
END:VCALENDAR
