BEGIN:VCALENDAR
BEGIN:VEVENT
SUMMARY:Nonstop: Simisea\, Coffintexts\, zi!\, deep creep\, Binh\, Satoshi
  Tomiie [nycnoise]
DTSTART:20251005T020000Z
DTEND:20251005T030000Z
UID:4a385c33-fe52-4b47-aef1-c678eecbf4d1
CREATED:20260420T145341Z
DESCRIPTION:
LOCATION:nowadays (56-06 cooper ave\, ridgewood)
END:VEVENT
END:VCALENDAR
