BEGIN:VCALENDAR
BEGIN:VEVENT
SUMMARY:NAFF & Nina present: Car Culture (live)\, Ian Kim Judd\, J. Albert
  (live)\, livwutang\, Purelink (live) [nycnoise]
DTSTART:20251017T020000Z
DTEND:20251017T030000Z
UID:c7ed2be3-aee3-4afe-a676-31939953bbb2
CREATED:20260420T145322Z
DESCRIPTION:
LOCATION:nowadays (56-06 cooper ave\, ridgewood)
END:VEVENT
END:VCALENDAR
