BEGIN:VCALENDAR
BEGIN:VEVENT
SUMMARY:Nonstop: EscaFlowne\, Junior M\, MIRA MIRA\, Regal86\, RHR\, Yazzu
 s [nycnoise]
DTSTART:20251026T020000Z
DTEND:20251026T030000Z
UID:6d7ee6e5-5960-4c43-95c0-61767e242c4a
CREATED:20260420T145145Z
DESCRIPTION:
LOCATION:nowadays (56-06 cooper ave\, ridgewood)
END:VEVENT
END:VCALENDAR
