BEGIN:VCALENDAR
BEGIN:VEVENT
SUMMARY:Nonstop: EscaFlowne\, Junior M\, MIRA MIRA\, Regal86\, RHR\, Yazzu
 s [nycnoise]
DTSTART:20251026T040100Z
DTEND:20251026T050100Z
UID:c452ff61-c92f-4370-ab96-6d5dd44cc00f
CREATED:20260420T145452Z
DESCRIPTION:
LOCATION:nowadays (56-06 cooper ave\, ridgewood)
END:VEVENT
END:VCALENDAR
