BEGIN:VCALENDAR
BEGIN:VEVENT
SUMMARY:Zachary Cale (Record Release)\, Seawind of Battery [nycnoise]
DTSTART:20251004T220000Z
DTEND:20251004T230000Z
UID:5d032509-c06c-430d-9982-62854080e479
CREATED:20260420T145407Z
DESCRIPTION:
LOCATION:p.i.t. (property is theft) (411 s. 5th st.\, brooklyn)
END:VEVENT
END:VCALENDAR
