BEGIN:VCALENDAR
BEGIN:VEVENT
SUMMARY:Lemuel Marc / Bashi Rose / Brandon Lopez / Emperor King Bishop [ny
 cnoise]
DTSTART:20251011T223000Z
DTEND:20251011T233000Z
UID:6c6ed446-56fa-4aaa-a9dd-0149f323597e
CREATED:20260420T145329Z
DESCRIPTION:
LOCATION:p.i.t. (property is theft) (411 s. 5th st.\, brooklyn)
END:VEVENT
END:VCALENDAR
