BEGIN:VCALENDAR
BEGIN:VEVENT
SUMMARY:Will Rawls: '[siccer]'\, Night #1/3 [nycnoise]
DTSTART:20251121T003000Z
DTEND:20251121T013000Z
UID:199c2cb4-3a6f-4f81-8baa-da124805a1ba
CREATED:20260425T203803Z
DESCRIPTION:ft. Holland Andrews\, keyon gaskin\, jess pretty\, Katrina Rei
 d\, Jeremy Toussaint-Baptiste
LOCATION:performance space (150 1st ave (at 9th st.)\, 4th fl.\, manhattan
 )
END:VEVENT
END:VCALENDAR
