BEGIN:VCALENDAR
BEGIN:VEVENT
SUMMARY:HOLE PICS / Holiday Party +: Mandy Harris Williams: Critique Cabar
 et [nycnoise]
DTSTART:20251213T000000Z
DTEND:20251213T010000Z
UID:d9d86626-2ee6-410e-979c-f5f0e943552f
CREATED:20260425T184030Z
DESCRIPTION:8:30pm hole pics (tix)\; "Critique Cabaret will culminate with
  and extend into Performance Space New York&rsquo\;s annual holiday party 
 presented by HOLE PICS\, &nbsp\;featuring experimental performances\, DJ s
 ets\, &amp\; more"
LOCATION:performance space (150 1st ave (at 9th st.)\, 4th fl.\, manhattan
 )
END:VEVENT
END:VCALENDAR
