BEGIN:VCALENDAR
BEGIN:VEVENT
SUMMARY:Pressure: Kim Ann Foxman\, CEM\, Primo\, ALEXIS DE LA ROSA\, Danir
 o [nycnoise]
DTSTART:20251011T013000Z
DTEND:20251011T023000Z
UID:28691f9c-c253-414a-b1d3-e1ae5779fff4
CREATED:20260420T145606Z
DESCRIPTION:
LOCATION:paragon (990 broadway\, brooklyn)
END:VEVENT
END:VCALENDAR
