BEGIN:VCALENDAR
BEGIN:VEVENT
SUMMARY:Bergamot Quartet 'Extended' (w/ Alec Goldfarb) [nycnoise]
DTSTART:20251012T233000Z
DTEND:20251013T003000Z
UID:a8eb5f25-a3b7-46fb-83d2-a8efaa7efc0a
CREATED:20260420T145542Z
DESCRIPTION:
LOCATION:threes brewing (333 douglass st.\, brooklyn)
END:VEVENT
END:VCALENDAR
